BEGIN:VCALENDAR
VERSION:2.0
CREATED:20260331T125145Z
PRODID:-//Northpointe Bancshares\, Inc./Equisolve Calendar v1.0//EN
METHOD:PUBLISH
BEGIN:VEVENT
UID:9f3baabbef4ebd63957b3d44dc7aa50e
DTSTAMP:20260423T124259Z
DTSTART:20260513T170000Z
DTEND:20260513T180000Z
SUMMARY:2026 Annual Meeting of Stockholders
DESCRIPTION:2026 Annual Meeting of Stockholders\nDate: May 13\, 2026 1:00 pm EDT
END:VEVENT
END:VCALENDAR
